BEGIN:VCALENDAR
BEGIN:VEVENT
SUMMARY:Different Birds (Peter Zummo\, Danny Tunick\, Bill Ruyle\, Ọmọ
  Igi)\, Alice Cohen\, Seraphine's Cleaver [nycnoise]
DTSTART:20251205T000000Z
DTEND:20251205T010000Z
UID:ec889297-932c-4b53-9589-1d46da6687b2
CREATED:20260425T184113Z
DESCRIPTION:
LOCATION:pianos (158 Ludlow St\, New York\, NY 10002)
END:VEVENT
END:VCALENDAR
