BEGIN:VCALENDAR
BEGIN:VEVENT
SUMMARY:A-Sides Presents: Dr. S&M\, DYR FASER\, Erik Gundel [nycnoise]
DTSTART:20251224T000000Z
DTEND:20251224T010000Z
UID:58f1870e-3b1d-4f17-91de-de22838320bb
CREATED:20260425T183931Z
DESCRIPTION:
LOCATION:pianos (158 Ludlow St\, New York\, NY 10002)
END:VEVENT
END:VCALENDAR
