BEGIN:VCALENDAR
BEGIN:VEVENT
SUMMARY:Ross Lewicki / Christian Cail / Kevin Shea\, Gían Pérez & Lulu W
 est\, Will Bollinger [nycnoise]
DTSTART:20251211T000000Z
DTEND:20251211T010000Z
UID:f350ef47-8996-4e6c-83c5-067af8abccea
CREATED:20260425T184111Z
DESCRIPTION:
LOCATION:brothers wash & dry laundromat (5420 nurge ave\, queens)
END:VEVENT
END:VCALENDAR
