BEGIN:VCALENDAR
BEGIN:VEVENT
SUMMARY:Wormhole Music: Inch of Sketch\, Selendis & Gían\, Ruby Wagner / 
 Celine Kang / Cosmo Lieberman / Joseph Wagner [nycnoise]
DTSTART:20251208T000000Z
DTEND:20251208T010000Z
UID:2e4e4e1d-0a05-41be-b2eb-a3727d6ce753
CREATED:20260425T184016Z
DESCRIPTION:wormhole first sundays\, now co-curated by SSAJ &amp\; g&iacut
 e\;an p&eacute\;rez
LOCATION:brothers wash & dry laundromat (5420 nurge ave\, queens)
END:VEVENT
END:VCALENDAR
