BEGIN:VCALENDAR
BEGIN:VEVENT
SUMMARY:Keenan Ruffin & Manuel J. Perez III\, Orchid McRae\, Karen Dazzler
 \, Military Kids (Nathan Chamberlain & Alana Colvin) [nycnoise]
DTSTART:20251214T000000Z
DTEND:20251214T010000Z
UID:6da807be-ba8a-493f-b5d1-ddf6d7e76e6f
CREATED:20260425T183806Z
DESCRIPTION:
LOCATION:brothers wash & dry laundromat (5420 nurge ave\, queens)
END:VEVENT
END:VCALENDAR
