BEGIN:VCALENDAR
BEGIN:VEVENT
SUMMARY:TBA [nycnoise]
DTSTART:20251215T010000Z
DTEND:20251215T020000Z
UID:395c9af4-9591-4cb5-9b00-5c2b13cf4f9c
CREATED:20260425T183804Z
DESCRIPTION:lineup asap (submit info)
LOCATION:brothers wash & dry laundromat (5420 nurge ave\, queens)
END:VEVENT
END:VCALENDAR
