BEGIN:VCALENDAR
BEGIN:VEVENT
SUMMARY:Mohanty presents Duo Trio Quartet: Ayumi Ishito & Kate Mohanty\, C
 arolyn Hietter / Matt Norman / Kate Mohanty\, Celine Kang / Ivan Chen / Ch
 arlie DeGrove / Anway Laraway [nycnoise]
DTSTART:20251218T003000Z
DTEND:20251218T013000Z
UID:6227f55a-8cd7-4577-aa66-9b1f24e7483a
CREATED:20260425T183938Z
DESCRIPTION:
LOCATION:brothers wash & dry laundromat (5420 nurge ave\, queens)
END:VEVENT
END:VCALENDAR
