BEGIN:VCALENDAR
BEGIN:VEVENT
SUMMARY:Maple Street Fire Benefit: RICO_505\, Carter\, Godess Mami Diva Qu
 een\, Phagocyte\, misty xelibri\, Rat Porridge\, KELPY CATHEDRAL [nycnoise
 ]
DTSTART:20251122T000000Z
DTEND:20251122T010000Z
UID:b323e5f5-c4eb-4dac-ae69-cc3ea22a6c86
CREATED:20260425T203830Z
DESCRIPTION:"raise funds for a friend of the space &amp\; beloved artist w
 ho has been displaced &amp\; lost all their possessions to arson"
LOCATION:living gallery (1094 broadway\, brooklyn)
END:VEVENT
END:VCALENDAR
