BEGIN:VCALENDAR
BEGIN:VEVENT
SUMMARY:Ibrahima Sow\, Guatama Mehta\, 75 Dollar Bill Little Big Band [nyc
 noise]
DTSTART:20251205T230000Z
DTEND:20251206T000000Z
UID:0da0d575-3271-4388-ae60-87f88957022f
CREATED:20260425T184013Z
DESCRIPTION:75DBLBB: Rick Brown\, Che Chen\, Sue Garner\, Cheryl Kingan\, 
 Talice Lee\, Barry Weisblat (per che email)
LOCATION:p.i.t. (property is theft) (411 s. 5th st.\, brooklyn)
END:VEVENT
END:VCALENDAR
