BEGIN:VCALENDAR
BEGIN:VEVENT
SUMMARY:Verity Den\, Austyn Wohlers [nycnoise]
DTSTART:20251207T210000Z
DTEND:20251207T220000Z
UID:cf169785-fc73-4693-8755-76c002c27418
CREATED:20260425T183936Z
DESCRIPTION:
LOCATION:p.i.t. (property is theft) (411 s. 5th st.\, brooklyn)
END:VEVENT
END:VCALENDAR
