BEGIN:VCALENDAR
BEGIN:VEVENT
SUMMARY:PIT Solstice Fundraising Party: Everloving\, Ideas For Conversatio
 ns\, Flaming Trash Pandas\, Alexander [nycnoise]
DTSTART:20251219T230000Z
DTEND:20251220T000000Z
UID:20261ebe-473d-4344-85c3-aff0d207373d
CREATED:20260425T183937Z
DESCRIPTION:
LOCATION:p.i.t. (property is theft) (411 s. 5th st.\, brooklyn)
END:VEVENT
END:VCALENDAR
