BEGIN:VCALENDAR
BEGIN:VEVENT
SUMMARY:The Whimbrels\, Thalia Zedek\, GoJuMo [nycnoise]
DTSTART:20251213T010000Z
DTEND:20251213T020000Z
UID:df27aa08-4ee1-4cad-bf77-cd15d9d02ade
CREATED:20260425T183933Z
DESCRIPTION:
LOCATION:broadway (1272 broadway\, brooklyn)
END:VEVENT
END:VCALENDAR
