BEGIN:VCALENDAR
BEGIN:VEVENT
SUMMARY:Meet Me Here (h$\, Kirk Knuffke\, X)\, Hannah Law [nycnoise]
DTSTART:20251206T010000Z
DTEND:20251206T020000Z
UID:462d881b-34ac-41e3-b5db-93ddc0c0b94c
CREATED:20260425T183938Z
DESCRIPTION:
LOCATION:lava club
END:VEVENT
END:VCALENDAR
