BEGIN:VCALENDAR
BEGIN:VEVENT
SUMMARY:MV Carbon\, Jacob Wick / Michael Foster / Sean Meehan / Sean Ali [
 nycnoise]
DTSTART:20251207T010000Z
DTEND:20251207T020000Z
UID:4703139a-35cb-4e9a-907d-503a9ec9179b
CREATED:20260425T183830Z
DESCRIPTION:
LOCATION:lava club
END:VEVENT
END:VCALENDAR
