BEGIN:VCALENDAR
BEGIN:VEVENT
SUMMARY:Gaza Thrift x Under the Sun Collective present Benefit for Palesti
 ne: Plastic Baby Jesus\, OBOY!\, Clearjaw\, Avalena\, Disrespect Boyz [nyc
 noise]
DTSTART:20251124T010000Z
DTEND:20251124T020000Z
UID:8f55736d-0a4c-4796-999c-237f1c027c89
CREATED:20260425T203632Z
DESCRIPTION:🇵🇸 5pm&nbsp\;vendor market\, 7pm doors\, 8pm music\; "br
 ing a coat for a reduced ticket! all ticket proceeds will be donated to di
 splaced Palestinian families"
LOCATION:broadway (1272 broadway\, brooklyn)
END:VEVENT
END:VCALENDAR
