BEGIN:VCALENDAR
BEGIN:VEVENT
SUMMARY:HEAVY HEARTS x PLEASE YS: RIGHTQUICK (King Vision Ultra & Yaz Lanc
 aster)\, Foxes In Fiction\, Laura Ortman [nycnoise]
DTSTART:20251207T003000Z
DTEND:20251207T013000Z
UID:190acd41-2e67-4fe2-a3d5-ff45a7e9ebe4
CREATED:20260425T183804Z
DESCRIPTION:🇵🇸 😷 wear a mask // LAST PLEASE Y.S. AT THIS LOCATION
 !&nbsp\;pals have to leave the livin room &lt\;/3
LOCATION:please y.s.
END:VEVENT
END:VCALENDAR
