BEGIN:VCALENDAR
BEGIN:VEVENT
SUMMARY:Positive Deviance Presents Soul Food: Black Folks Don't Swim?\, Iv
 y Sole\, NANí\, Abolish Music [nycnoise]
DTSTART:20251123T200000Z
DTEND:20251123T210000Z
UID:661c0a6a-9e2f-4644-8336-862ace151361
CREATED:20260425T203803Z
DESCRIPTION:2:30pm doors // Positive Deviance's Health Protocols include 
 😷 (K)N95+ filtering masks required &amp\; provided\; 🔄 air purifiers
 \, Far‑UVC light\, &amp\; ventilation
LOCATION:bronxlandia (910 Hunts Point Ave\, Bronx\, NY 10474)
END:VEVENT
END:VCALENDAR
