BEGIN:VCALENDAR
BEGIN:VEVENT
SUMMARY:Dominica Greene (w/ Garrett Allen)\, Malcolm-x Betts (w/ Molly Lie
 ber\, GENG PTP)\, Night #3/3 [nycnoise]
DTSTART:20251214T003000Z
DTEND:20251214T013000Z
UID:b587d706-c9d7-4121-8c45-d0cdb3ad1d3f
CREATED:20260425T184113Z
DESCRIPTION:
LOCATION:danspace project at st. mark's (131 e. 10th st.\, manhattan)
END:VEVENT
END:VCALENDAR
