BEGIN:VCALENDAR
BEGIN:VEVENT
SUMMARY:toso toso (Album Release)\, yaz lancaster\, Key Hutch\, Merkeba [n
 ycnoise]
DTSTART:20251210T000000Z
DTEND:20251210T010000Z
UID:0750bcc4-67c2-4829-b052-62472a7b97c1
CREATED:20260425T184030Z
DESCRIPTION:6:30pm doors // toso toso: isabel crespo pardo\, Celia Hill\, 
 Rahul Carlberg\, Kabir Adhiya-Kumar (album)\; //&nbsp\;hmu if you know how
  to direct link to specific arlene's grocery tickets? i can't figure it ou
 t lol\; flyer on&nbsp\;insta
LOCATION:arlene's grocery (95 stanton st.\, manhattan)
END:VEVENT
END:VCALENDAR
