BEGIN:VCALENDAR
BEGIN:VEVENT
SUMMARY:Migrant Solidarity presents Mercado Caracol: Warphole\, DJ Play\, 
 Loco Bembe\, Sonido Maxim's\, Ballet de Tonantzin\, Tecuanis de Chinantla\
 , & more [nycnoise]
DTSTART:20251129T180000Z
DTEND:20251129T190000Z
UID:a93a3f78-f459-4aa9-8ee8-7f9d71905285
CREATED:20260425T203932Z
DESCRIPTION:+ activities for kiddos
LOCATION:mayday (176 St Nicholas Ave\, Brooklyn\, NY 11237)
END:VEVENT
END:VCALENDAR
