BEGIN:VCALENDAR
BEGIN:VEVENT
SUMMARY:Planetary Listening: Willow [nycnoise]
DTSTART:20251124T000000Z
DTEND:20251124T010000Z
UID:2b9d2a1a-2ace-498e-be01-04c1c1c60cc7
CREATED:20260425T203803Z
DESCRIPTION:
LOCATION:reforesters laboratory (147 Metropolitan Ave\, Brooklyn\, NY 1124
 9)
END:VEVENT
END:VCALENDAR
