BEGIN:VCALENDAR
BEGIN:VEVENT
SUMMARY:Varispeed_7 [nycnoise]
DTSTART:20251201T000000Z
DTEND:20251201T010000Z
UID:35c1ae5b-3333-48d5-965b-91896326c869
CREATED:20260425T203805Z
DESCRIPTION:🇵🇸 "Proceeds go directly to Palestinian families &amp\; 
 families affected by ICE kidnappings"
LOCATION:reforesters laboratory (147 Metropolitan Ave\, Brooklyn\, NY 1124
 9)
END:VEVENT
END:VCALENDAR
