BEGIN:VCALENDAR
BEGIN:VEVENT
SUMMARY:Club Hospitality: Flores Negras\, Loqum\, sola system\, DJ Gaybash
 !\, Lynzo The Heartthrob [nycnoise]
DTSTART:20251124T030000Z
DTEND:20251124T040000Z
UID:a75d1b5f-b084-490e-82df-536c57c7c299
CREATED:20260425T203703Z
DESCRIPTION:
LOCATION:bossa nova civic club (1271 myrtle ave\, brooklyn)
END:VEVENT
END:VCALENDAR
