BEGIN:VCALENDAR
BEGIN:VEVENT
SUMMARY:Deja Vu: Auspex\, Josh Steers\, VILE\, cotton [nycnoise]
DTSTART:20251125T030000Z
DTEND:20251125T040000Z
UID:90bc138e-2906-4f6e-ad8d-f6107a893e29
CREATED:20260425T203655Z
DESCRIPTION:
LOCATION:bossa nova civic club (1271 myrtle ave\, brooklyn)
END:VEVENT
END:VCALENDAR
