BEGIN:VCALENDAR
BEGIN:VEVENT
SUMMARY:Staff Party: ROCCO\, Alissa Brianna\, S'aint Panic [nycnoise]
DTSTART:20251126T030000Z
DTEND:20251126T040000Z
UID:74614d24-07b9-43d5-a3ea-b4f3853e62e5
CREATED:20260425T203703Z
DESCRIPTION:
LOCATION:bossa nova civic club (1271 myrtle ave\, brooklyn)
END:VEVENT
END:VCALENDAR
