BEGIN:VCALENDAR
BEGIN:VEVENT
SUMMARY:Devoye\, YASMEENAH\, SSG_\, CSILLA [nycnoise]
DTSTART:20251127T030000Z
DTEND:20251127T040000Z
UID:069d030c-6b50-4766-8a39-4314d731c05d
CREATED:20260425T203934Z
DESCRIPTION:
LOCATION:bossa nova civic club (1271 myrtle ave\, brooklyn)
END:VEVENT
END:VCALENDAR
