BEGIN:VCALENDAR
BEGIN:VEVENT
SUMMARY:Collective Memory: Kilopatrah Jones\, Preacher's Daughter\, natali
 epops\, ethereal.mvp [nycnoise]
DTSTART:20251130T030000Z
DTEND:20251130T040000Z
UID:782ec53b-d115-40a0-8cd9-c719de0685ba
CREATED:20260425T203852Z
DESCRIPTION:
LOCATION:bossa nova civic club (1271 myrtle ave\, brooklyn)
END:VEVENT
END:VCALENDAR
