BEGIN:VCALENDAR
BEGIN:VEVENT
SUMMARY:CMD+JAZMINE\, LITA DA DOLL\, N33K5\, senoritajuicy [nycnoise]
DTSTART:20251202T030000Z
DTEND:20251202T040000Z
UID:7580c30e-1c1a-4209-9144-f22830ed88b6
CREATED:20260425T184132Z
DESCRIPTION:
LOCATION:bossa nova civic club (1271 myrtle ave\, brooklyn)
END:VEVENT
END:VCALENDAR
