BEGIN:VCALENDAR
BEGIN:VEVENT
SUMMARY:PAN!C ROOM: duco\, NIJEII\, WADDLE\, y2aura [nycnoise]
DTSTART:20251203T030000Z
DTEND:20251203T040000Z
UID:2b21474e-95de-4965-a1ba-9e8dd0f6ae22
CREATED:20260425T184133Z
DESCRIPTION:
LOCATION:bossa nova civic club (1271 myrtle ave\, brooklyn)
END:VEVENT
END:VCALENDAR
