BEGIN:VCALENDAR
BEGIN:VEVENT
SUMMARY:Synthicide: Close Proximity\, Andi b2b Arvin T [nycnoise]
DTSTART:20251205T030000Z
DTEND:20251205T040000Z
UID:9616e66d-7e50-49f7-aedc-952ecc529fbd
CREATED:20260425T184236Z
DESCRIPTION:
LOCATION:bossa nova civic club (1271 myrtle ave\, brooklyn)
END:VEVENT
END:VCALENDAR
