BEGIN:VCALENDAR
BEGIN:VEVENT
SUMMARY:3DMA\, Quetamine\, Vyper\, Stealthy [nycnoise]
DTSTART:20251206T030000Z
DTEND:20251206T040000Z
UID:d68f33d7-ebbc-47ec-88b5-eff43547d45b
CREATED:20260425T184132Z
DESCRIPTION:
LOCATION:bossa nova civic club (1271 myrtle ave\, brooklyn)
END:VEVENT
END:VCALENDAR
