BEGIN:VCALENDAR
BEGIN:VEVENT
SUMMARY:EXPERIMENTAS NY s.II: H/OURS (EP release\; mot.physics & Xxhe) [ny
 cnoise]
DTSTART:20251130T013000Z
DTEND:20251130T023000Z
UID:bc4a4f82-421e-4093-984a-514862ad731d
CREATED:20260425T204000Z
DESCRIPTION:
LOCATION:merlin's place
END:VEVENT
END:VCALENDAR
