BEGIN:VCALENDAR
BEGIN:VEVENT
SUMMARY:Jonathan Reisin (ft. Milena Casado\, Henry Fraser\, Henry Mermer)\
 , Jeong Lim Yang Winding Trio (w/ Santiago Leibson\, James Paul Nadien) [n
 ycnoise]
DTSTART:20251208T010000Z
DTEND:20251208T020000Z
UID:f68aa011-a670-4c1c-afd6-2f0758d0eb48
CREATED:20260425T183405Z
DESCRIPTION:
LOCATION:threes brewing (333 douglass st.\, brooklyn)
END:VEVENT
END:VCALENDAR
