BEGIN:VCALENDAR
BEGIN:VEVENT
SUMMARY:Adam Lane's super soul free jazz freakout (w/ Vijay Anderson\, Ada
 m Caine\, Nick Lyons\, Sana Nagano) [nycnoise]
DTSTART:20251129T003000Z
DTEND:20251129T013000Z
UID:ca55c09b-0499-4bd2-8447-a7d1e90380fb
CREATED:20260425T204001Z
DESCRIPTION:
LOCATION:nublu classic (62 Loisaida Ave\, New York\, NY 10009)
END:VEVENT
END:VCALENDAR
