BEGIN:VCALENDAR
BEGIN:VEVENT
SUMMARY:Bryce Hackford: 26 Clinical Tunes: A Building On The Broken Founda
 tion [nycnoise]
DTSTART:20251215T023000Z
DTEND:20251215T033000Z
UID:af30bc5c-3681-41cd-895b-15001a3f8a8a
CREATED:20260425T184134Z
DESCRIPTION:"cheap tix avail til 12/9/25 :)"
LOCATION:reforesters laboratory (147 Metropolitan Ave\, Brooklyn\, NY 1124
 9)
END:VEVENT
END:VCALENDAR
