BEGIN:VCALENDAR
BEGIN:VEVENT
SUMMARY:The Prospect Series House Show: Jordan Topiel Paul\, The New York 
 Review of Cocksucking (Michael Foster & Richard Kamerman) ft. Jacob Wick\,
  Grant Beale / Lemuel Marc / TJ Borden [nycnoise]
DTSTART:20251206T010000Z
DTEND:20251206T020000Z
UID:ee64d9f8-f310-4898-b867-54fe1dd335af
CREATED:20260425T184135Z
DESCRIPTION:7:30 doors\, byob\, $20 suggested
LOCATION:prospect series apt (1923 8th ave (corner of 20th st.)\, south sl
 ope\, bklyn)
END:VEVENT
END:VCALENDAR
