BEGIN:VCALENDAR
BEGIN:VEVENT
SUMMARY:Astrid Kuljanic & Mat Muntz\, Marius Duboule & Steve Cardenas [nyc
 noise]
DTSTART:20251212T010000Z
DTEND:20251212T020000Z
UID:b1682712-07a4-4375-a527-53b5e50e86c0
CREATED:20260425T184133Z
DESCRIPTION:
LOCATION:ibeam (168 7th st.\, brooklyn)
END:VEVENT
END:VCALENDAR
