BEGIN:VCALENDAR
BEGIN:VEVENT
SUMMARY:Anthony Coleman Trio\, Michael Moss' Roots To Shoots [nycnoise]
DTSTART:20251221T010000Z
DTEND:20251221T020000Z
UID:fe1c2cd6-e742-48a2-a76b-4d7edd2d4b2a
CREATED:20260425T184133Z
DESCRIPTION:AC3 w/ Adam Lane\, Patrick Golden\; MMR2S w/ w/ Alexis Marcell
 o\, Lane\, Jackson Krall
LOCATION:ibeam (168 7th st.\, brooklyn)
END:VEVENT
END:VCALENDAR
