BEGIN:VCALENDAR
BEGIN:VEVENT
SUMMARY:Brenna Rey\, Noah Stoneman / Jacob Patrone / aj medeiros\, Frank L
 ao [nycnoise]
DTSTART:20251207T010000Z
DTEND:20251207T020000Z
UID:dfe1c847-f490-4ac6-a1af-5cdada9083ef
CREATED:20260425T184132Z
DESCRIPTION:
LOCATION:brothers wash & dry laundromat (5420 nurge ave\, queens)
END:VEVENT
END:VCALENDAR
