BEGIN:VCALENDAR
BEGIN:VEVENT
SUMMARY:Abasement 83: TBA [nycnoise]
DTSTART:20251216T010000Z
DTEND:20251216T020000Z
UID:d9f50226-9ec5-4905-a389-d7f02e43e966
CREATED:20260425T184132Z
DESCRIPTION:
LOCATION:artists space (11 cortlandt alley\, manhattan)
END:VEVENT
END:VCALENDAR
