BEGIN:VCALENDAR
BEGIN:VEVENT
SUMMARY:ABC No Rio Benefit: Crush Fund\, SubRosa\, Jolana Star\, Tober Lio
 ns [nycnoise]
DTSTART:20251213T230000Z
DTEND:20251214T000000Z
UID:591a9318-bd10-43b5-9d1c-114dbd90dc3d
CREATED:20260425T184132Z
DESCRIPTION:
LOCATION:p.i.t. (property is theft) (411 s. 5th st.\, brooklyn)
END:VEVENT
END:VCALENDAR
