BEGIN:VCALENDAR
BEGIN:VEVENT
SUMMARY:$24 NYE: DJ Assault\, Hooky\, Tek Lintowe\, Laker Brady\, Gods Wis
 dom\, DJ Funny Pat [nycnoise]
DTSTART:20260101T000000Z
DTEND:20260101T010000Z
UID:d7ee9104-f3b2-4861-a709-31f331eaf804
CREATED:20260425T183803Z
DESCRIPTION:"free champagne at midnight"
LOCATION:broadway (1272 broadway\, brooklyn)
END:VEVENT
END:VCALENDAR
