BEGIN:VCALENDAR
BEGIN:VEVENT
SUMMARY:latinamerican electronic drum circle: A.B.E.L.A. [nycnoise]
DTSTART:20251213T030000Z
DTEND:20251213T040000Z
UID:60264bd0-e3da-4961-9fef-517ebca110a3
CREATED:20260425T184030Z
DESCRIPTION:
LOCATION:barzakh café (147 Utica Ave\, Brooklyn\, NY 11213)
END:VEVENT
END:VCALENDAR
