BEGIN:VCALENDAR
BEGIN:VEVENT
SUMMARY:inertia: WTCHCRFT\, Annie Lew\, speedy spice b2b xatura [nycnoise]
DTSTART:20251210T030000Z
DTEND:20251210T040000Z
UID:5e567e32-4293-4ced-8953-84550325340e
CREATED:20260425T183831Z
DESCRIPTION:
LOCATION:bossa nova civic club (1271 myrtle ave\, brooklyn)
END:VEVENT
END:VCALENDAR
