BEGIN:VCALENDAR
BEGIN:VEVENT
SUMMARY:Base Seven: Joey Beltram\, Marco Neves\, Oscar Zabala\, Negative A
 ffect [nycnoise]
DTSTART:20251214T030000Z
DTEND:20251214T040000Z
UID:da6e4cfe-e54c-4eea-a1ce-74201ed86535
CREATED:20260425T184134Z
DESCRIPTION:
LOCATION:bossa nova civic club (1271 myrtle ave\, brooklyn)
END:VEVENT
END:VCALENDAR
