BEGIN:VCALENDAR
BEGIN:VEVENT
SUMMARY:tomboi.fm presents: Izzy Holmes\, HONEY B\, Nishévitha\, NATALIA 
 [nycnoise]
DTSTART:20251216T030000Z
DTEND:20251216T040000Z
UID:44b3ec41-bcef-4f58-ac60-861c5d7b9843
CREATED:20260425T184133Z
DESCRIPTION:
LOCATION:bossa nova civic club (1271 myrtle ave\, brooklyn)
END:VEVENT
END:VCALENDAR
