BEGIN:VCALENDAR
BEGIN:VEVENT
SUMMARY:Celebration Of Life: A Lana\, DJ Frank Paper\, Estro\, Unique Devi
 ces [nycnoise]
DTSTART:20251218T030000Z
DTEND:20251218T040000Z
UID:3eccc97b-fd10-4278-9d38-da443f1e4367
CREATED:20260425T183933Z
DESCRIPTION:
LOCATION:bossa nova civic club (1271 myrtle ave\, brooklyn)
END:VEVENT
END:VCALENDAR
