BEGIN:VCALENDAR
BEGIN:VEVENT
SUMMARY:sola return | sola system's 30th bday fundraiser: DJ Shannon\, Kne
 aku Ashae (fka Sp3cial K)\, Madre Guía b2b Doula\, Rose Kourts\, sola sys
 tem [nycnoise]
DTSTART:20251219T030000Z
DTEND:20251219T040000Z
UID:e9b00ca7-df22-45ca-8359-b277d24cd91d
CREATED:20260425T183938Z
DESCRIPTION:"raise funds in support of NYC Migrant Solidarity"
LOCATION:bossa nova civic club (1271 myrtle ave\, brooklyn)
END:VEVENT
END:VCALENDAR
