BEGIN:VCALENDAR
BEGIN:VEVENT
SUMMARY:13 YEARS OF Bossa Nova Civic Club: Special Guest b2b DICAP\, TYGAP
 AW\, Sterling Juan Diaz [nycnoise]
DTSTART:20251221T030000Z
DTEND:20251221T040000Z
UID:5cb62482-b42f-4b98-931b-a07a6c4e5bfa
CREATED:20260425T183805Z
DESCRIPTION:
LOCATION:bossa nova civic club (1271 myrtle ave\, brooklyn)
END:VEVENT
END:VCALENDAR
