BEGIN:VCALENDAR
BEGIN:VEVENT
SUMMARY:VHS Holiday Warm-Up: eyeswideshutt\, SAMI\, Shray\, S7IK\, Waddle 
 b2b Misa\, Steen b2b Sam Valle [nycnoise]
DTSTART:20251224T030000Z
DTEND:20251224T040000Z
UID:51ada795-b170-4a26-a253-835c3f642e40
CREATED:20260425T184134Z
DESCRIPTION:
LOCATION:bossa nova civic club (1271 myrtle ave\, brooklyn)
END:VEVENT
END:VCALENDAR
